BEGIN:VCALENDAR
VERSION:2.0
PRODID:-//VIP - ECPv6.15.11//NONSGML v1.0//EN
CALSCALE:GREGORIAN
METHOD:PUBLISH
X-ORIGINAL-URL:https://vipempowers.org
X-WR-CALDESC:Events for VIP
REFRESH-INTERVAL;VALUE=DURATION:PT1H
X-Robots-Tag:noindex
X-PUBLISHED-TTL:PT1H
BEGIN:VTIMEZONE
TZID:America/New_York
BEGIN:DAYLIGHT
TZOFFSETFROM:-0500
TZOFFSETTO:-0400
TZNAME:EDT
DTSTART:20240310T070000
END:DAYLIGHT
BEGIN:STANDARD
TZOFFSETFROM:-0400
TZOFFSETTO:-0500
TZNAME:EST
DTSTART:20241103T060000
END:STANDARD
BEGIN:DAYLIGHT
TZOFFSETFROM:-0500
TZOFFSETTO:-0400
TZNAME:EDT
DTSTART:20250309T070000
END:DAYLIGHT
BEGIN:STANDARD
TZOFFSETFROM:-0400
TZOFFSETTO:-0500
TZNAME:EST
DTSTART:20251102T060000
END:STANDARD
BEGIN:DAYLIGHT
TZOFFSETFROM:-0500
TZOFFSETTO:-0400
TZNAME:EDT
DTSTART:20260308T070000
END:DAYLIGHT
BEGIN:STANDARD
TZOFFSETFROM:-0400
TZOFFSETTO:-0500
TZNAME:EST
DTSTART:20261101T060000
END:STANDARD
END:VTIMEZONE
BEGIN:VEVENT
DTSTART;VALUE=DATE:20250219
DTEND;VALUE=DATE:20250424
DTSTAMP:20260422T115213
CREATED:20250219T170606Z
LAST-MODIFIED:20250219T170606Z
UID:1262-1739923200-1745452799@vipempowers.org
SUMMARY:Spring Flower Sale - 2025
DESCRIPTION:We are asking the community to come together and show support for survivors through our annual flower fundraiser. The funds from these sales go directly towards the services we provide for clients\, including medical & legal advocacy\, emergency shelter\, individual counseling (for adults and children)\, support groups\, emergency transportation and education and prevention efforts. \nThe flowers make a great Mother’s Day gift! Order yours today! \nPlants for Sale: \n• 4.5″ PottedGeranium – $10 \n• 4.5″ Potted Dahlias – $10 \n• 10″ Ivy Geranium Basket (Caliente)- $25 \n• 10″ Hanging Million Bells (Calibrachoa) – $25 \n  \nBUY PLANTS \n  \nDEADLINE for orders is April 23rd. DELIVERY date is May\, 8th. \n  \nDELIVERY Information \nOrders will be delivered throughout the day (approx. 10am through 2pm) on Thursday\, May 8th\, 2025. FREE DELIVERY on orders of 10 plants or more\, or if you reside within 5 miles of Honesdale\, Hawley\, or Milford. Smaller Plant orders (less than 10) please call to arrange for pickup or other delivery method done on May8th. \nBUY PLANTS \n  \nQuestions call 570-253-4401  \n  \n  \n  \n 
URL:https://vipempowers.org/event/spring-flower-sale-2025/
LOCATION:PA
ATTACH;FMTTYPE=image/jpeg:https://vipempowers.org/wp-content/uploads/2021/03/VIP_social_geraniumsale_2021_eventcover.jpg
END:VEVENT
END:VCALENDAR