BEGIN:VCALENDAR
VERSION:2.0
PRODID:-//VIP - ECPv6.15.11//NONSGML v1.0//EN
CALSCALE:GREGORIAN
METHOD:PUBLISH
X-WR-CALNAME:VIP
X-ORIGINAL-URL:https://vipempowers.org
X-WR-CALDESC:Events for VIP
REFRESH-INTERVAL;VALUE=DURATION:PT1H
X-Robots-Tag:noindex
X-PUBLISHED-TTL:PT1H
BEGIN:VTIMEZONE
TZID:America/New_York
BEGIN:DAYLIGHT
TZOFFSETFROM:-0500
TZOFFSETTO:-0400
TZNAME:EDT
DTSTART:20240310T070000
END:DAYLIGHT
BEGIN:STANDARD
TZOFFSETFROM:-0400
TZOFFSETTO:-0500
TZNAME:EST
DTSTART:20241103T060000
END:STANDARD
BEGIN:DAYLIGHT
TZOFFSETFROM:-0500
TZOFFSETTO:-0400
TZNAME:EDT
DTSTART:20250309T070000
END:DAYLIGHT
BEGIN:STANDARD
TZOFFSETFROM:-0400
TZOFFSETTO:-0500
TZNAME:EST
DTSTART:20251102T060000
END:STANDARD
BEGIN:DAYLIGHT
TZOFFSETFROM:-0500
TZOFFSETTO:-0400
TZNAME:EDT
DTSTART:20260308T070000
END:DAYLIGHT
BEGIN:STANDARD
TZOFFSETFROM:-0400
TZOFFSETTO:-0500
TZNAME:EST
DTSTART:20261101T060000
END:STANDARD
END:VTIMEZONE
BEGIN:VEVENT
DTSTART;TZID=America/New_York:20250822T090000
DTEND;TZID=America/New_York:20250822T170000
DTSTAMP:20260419T102930
CREATED:20250313T142908Z
LAST-MODIFIED:20250406T135750Z
UID:1279-1755853200-1755882000@vipempowers.org
SUMMARY:2025 Golf Tournament - Wayne County
DESCRIPTION:Grab your golf bag and your friends to golf for a cause! \n\nVIP GOLF TOURNAMENT\n9:00a-10:00a – Breakfast/Registration\n10:00a – Start\n3:00pm – BBQ Lunch \n\nRegistration is $150 per person or $500 per team.\nBBQ only: $50 per person.\n***\nClick Here to Register. Registration ends August 12th.\n\n***\n\nClick Here to view sponsorship opportunities. \nPlease send logos and check by: July 25\,2025 \n\n***\nMake check payable to: Victims Intervention Program\nTo Register or Sponsor\, email: vip@vipempowers.org or call 570-253-4401
URL:https://vipempowers.org/event/2025-golf-tournament-wayne-county/
LOCATION:Honesdale Golf Club\, 121 Golf Hill Road\, Honesdale\, PA
ATTACH;FMTTYPE=image/gif:https://vipempowers.org/wp-content/uploads/2025/03/WEB-Golf-2025-WAYNE-FB-Cover-1.gif
END:VEVENT
BEGIN:VEVENT
DTSTART;VALUE=DATE:20250730
DTEND;VALUE=DATE:20250731
DTSTAMP:20260419T102930
CREATED:20250626T140103Z
LAST-MODIFIED:20250626T140103Z
UID:1442-1753833600-1753919999@vipempowers.org
SUMMARY:Red Sand Project - 2025
DESCRIPTION:Don’t Let Victims Fall Through the Cracks\nTake a Stand Against Human Trafficking \nEvery day\, victims of human trafficking go unseen—slipping through the cracks of society’s safety nets. Join VIP (Victims’ Intervention Program) as we take action\, raise awareness\, and give voice to the vulnerable. \nWhat Is the Red Sand Project? \nThe Red Sand Project is a powerful\, participatory art installation that uses red sand poured into sidewalk cracks to symbolize the lives that are overlooked and forgotten—those trafficked and exploited around the world. This national movement is about visibility\, awareness\, and solidarity. \nBy filling the cracks with red sand\, we make a visual statement: we see you\, we stand with you\, and we will not ignore the issue of human trafficking. \nEvent Details \n🗓 Date: Wednesday\, July 30\, 2025 \n📍 Locations & Times: \n\n\n10:00 AM – Wayne County Courthouse \n\n\n1:00 PM – Pike County Courthouse \n\n\n\nJoin Us \nWe invite community members\, advocates\, local leaders\, and survivors to come together\, take part in this symbolic act\, and amplify the message that no one should fall through the cracks. \n\nWhy It Matters \nHuman trafficking is a hidden crime that thrives on silence and invisibility. Many victims—children\, immigrants\, people experiencing homelessness\, and others—often go unnoticed. This project helps bring their stories to light and reinforces our community’s commitment to prevention\, education\, and support for survivors. \n\nHow You Can Help \n\n\nShow up. Be part of the visual demonstration. \n\n\nSpeak up. Share photos and stories from the event with the hashtag #RedSandProject. \n\n\nStand up. Support VIP’s ongoing work to end trafficking and empower survivors.
URL:https://vipempowers.org/event/red-sand-project-2025/
LOCATION:PA
ATTACH;FMTTYPE=image/jpeg:https://vipempowers.org/wp-content/uploads/2025/06/Red-Sand-Project-2025.jpg
END:VEVENT
BEGIN:VEVENT
DTSTART;VALUE=DATE:20250617
DTEND;VALUE=DATE:20250828
DTSTAMP:20260419T102930
CREATED:20250617T175650Z
LAST-MODIFIED:20250618T195620Z
UID:1419-1750118400-1756339199@vipempowers.org
SUMMARY:Fall Flower Sale 2025
DESCRIPTION:🌼 Fall Flower Fundraiser — 9″ Mums for a Cause! 🌼\nJust $10 Each | Order by August 27\, 2025 \nSupport survivors and add a burst of fall color to your home or office with VIP’s annual Chrysanthemum Fundraiser! Each 9″ potted mum is just $10\, and every purchase helps fund counseling\, emergency shelter\, legal advocacy\, and other free services for victims of domestic and sexual violence in our community. \n🛒 Order Deadline: August 27\, 2025📦 Delivery & Pick-Up: \n\n\nFree delivery for orders of 10+ mums in Honesdale\, Hawley\, or Milford – Thursday\, September 11 \n\n\nAll other orders must be picked up between 10 AM – 1 PM at: \n\n\nWayne County Fairgrounds or \n\n\nMilford American Legion  \n\n\n\n\n🌐 Order online: HERE.Questions? Contact us through the website. \n🌸 Proceeds support VIP’s vital services for survivors of abuse.Thank you for helping us plant hope in every pot!
URL:https://vipempowers.org/event/fall-flower-sale-2025/
LOCATION:PA
ATTACH;FMTTYPE=image/jpeg:https://vipempowers.org/wp-content/uploads/2021/07/VIP_social_mumssale_2021_eventcover-01-scaled.jpg
END:VEVENT
BEGIN:VEVENT
DTSTART;TZID=America/New_York:20250430T163000
DTEND;TZID=America/New_York:20250430T193000
DTSTAMP:20260419T102930
CREATED:20250313T145651Z
LAST-MODIFIED:20250313T145651Z
UID:1282-1746030600-1746041400@vipempowers.org
SUMMARY:Take Back the Night - 2025
DESCRIPTION:Wear your denim and join us for guest speakers\, survivor testimonies\, and awareness displays. \nLet’s take back the night at Black & Brass in Honesdale on Wednesday\, April 30 at 4:30pm. \nMusic and refreshments will be provided. \n*** \nSwing into Black & Brass all of April and order their survivor-inspired brew\, Healing Grounds. A portion of the proceeds will benefit VIP! \n*** \n\nAbout Take Back the Night \nIn the 1970s and 1980s\, feminists became more vocal about issues of responsibility and blame in incidents of sexual violence. Traditional views suggested women could prevent sexual violence by acting or dressing certain ways. Feminists argued that a victim of an attack should not be held responsible or blamed because of her sexual history or manner of dress. \nBy the late 1970s\, local feminist groups regularly organized events to protest violence against women under the name Take Back the Night. The public protests aimed to reclaim spaces in which women felt unsafe. The local nature of the organizations meant that the marches were typically organized in response to an assault within the community. By the 1980s\, Take Back the Night events were common on college campuses across the United States. The events often included candlelight vigils and speeches by survivors\, followed by a march.
URL:https://vipempowers.org/event/take-back-the-night-2025/
LOCATION:Black & Brass\, 102 US-6\, Hawley\, 18431
ATTACH;FMTTYPE=image/png:https://vipempowers.org/wp-content/uploads/2025/03/Screenshot-2025-03-13-at-10.34.40 AM.png
END:VEVENT
BEGIN:VEVENT
DTSTART;VALUE=DATE:20250219
DTEND;VALUE=DATE:20250424
DTSTAMP:20260419T102930
CREATED:20250219T170606Z
LAST-MODIFIED:20250219T170606Z
UID:1262-1739923200-1745452799@vipempowers.org
SUMMARY:Spring Flower Sale - 2025
DESCRIPTION:We are asking the community to come together and show support for survivors through our annual flower fundraiser. The funds from these sales go directly towards the services we provide for clients\, including medical & legal advocacy\, emergency shelter\, individual counseling (for adults and children)\, support groups\, emergency transportation and education and prevention efforts. \nThe flowers make a great Mother’s Day gift! Order yours today! \nPlants for Sale: \n• 4.5″ PottedGeranium – $10 \n• 4.5″ Potted Dahlias – $10 \n• 10″ Ivy Geranium Basket (Caliente)- $25 \n• 10″ Hanging Million Bells (Calibrachoa) – $25 \n  \nBUY PLANTS \n  \nDEADLINE for orders is April 23rd. DELIVERY date is May\, 8th. \n  \nDELIVERY Information \nOrders will be delivered throughout the day (approx. 10am through 2pm) on Thursday\, May 8th\, 2025. FREE DELIVERY on orders of 10 plants or more\, or if you reside within 5 miles of Honesdale\, Hawley\, or Milford. Smaller Plant orders (less than 10) please call to arrange for pickup or other delivery method done on May8th. \nBUY PLANTS \n  \nQuestions call 570-253-4401  \n  \n  \n  \n 
URL:https://vipempowers.org/event/spring-flower-sale-2025/
LOCATION:PA
ATTACH;FMTTYPE=image/jpeg:https://vipempowers.org/wp-content/uploads/2021/03/VIP_social_geraniumsale_2021_eventcover.jpg
END:VEVENT
END:VCALENDAR